BEGIN:VCALENDAR
VERSION:2.0
PRODID:-//Wantsum Morris Men - ECPv6.15.20//NONSGML v1.0//EN
CALSCALE:GREGORIAN
METHOD:PUBLISH
X-WR-CALNAME:Wantsum Morris Men
X-ORIGINAL-URL:https://wantsum-morris.org.uk
X-WR-CALDESC:Events for Wantsum Morris Men
REFRESH-INTERVAL;VALUE=DURATION:PT1H
X-Robots-Tag:noindex
X-PUBLISHED-TTL:PT1H
BEGIN:VTIMEZONE
TZID:Europe/London
BEGIN:DAYLIGHT
TZOFFSETFROM:+0000
TZOFFSETTO:+0100
TZNAME:BST
DTSTART:20220327T010000
END:DAYLIGHT
BEGIN:STANDARD
TZOFFSETFROM:+0100
TZOFFSETTO:+0000
TZNAME:GMT
DTSTART:20221030T010000
END:STANDARD
BEGIN:DAYLIGHT
TZOFFSETFROM:+0000
TZOFFSETTO:+0100
TZNAME:BST
DTSTART:20230326T010000
END:DAYLIGHT
BEGIN:STANDARD
TZOFFSETFROM:+0100
TZOFFSETTO:+0000
TZNAME:GMT
DTSTART:20231029T010000
END:STANDARD
BEGIN:DAYLIGHT
TZOFFSETFROM:+0000
TZOFFSETTO:+0100
TZNAME:BST
DTSTART:20240331T010000
END:DAYLIGHT
BEGIN:STANDARD
TZOFFSETFROM:+0100
TZOFFSETTO:+0000
TZNAME:GMT
DTSTART:20241027T010000
END:STANDARD
BEGIN:DAYLIGHT
TZOFFSETFROM:+0000
TZOFFSETTO:+0100
TZNAME:BST
DTSTART:20250330T010000
END:DAYLIGHT
BEGIN:STANDARD
TZOFFSETFROM:+0100
TZOFFSETTO:+0000
TZNAME:GMT
DTSTART:20251026T010000
END:STANDARD
END:VTIMEZONE
BEGIN:VEVENT
DTSTART;TZID=Europe/London:20241226T140000
DTEND;TZID=Europe/London:20241226T150000
DTSTAMP:20260421T121635
CREATED:20240603T201735Z
LAST-MODIFIED:20240603T201738Z
UID:3863-1735221600-1735225200@wantsum-morris.org.uk
SUMMARY:The Crown Inn\, Sarre
DESCRIPTION:As part of our boxing day tour\, the Wantsum Morris Men will be dancing outside The Crown Inn\, Sarre.
URL:https://wantsum-morris.org.uk/event/the-crown-inn-sarre-4/
LOCATION:Crown Inn\, Sarre\, Ramsgate Road\, Sarre\, Kent\, CT7 0LF\, United Kingdom
END:VEVENT
BEGIN:VEVENT
DTSTART;TZID=Europe/London:20241226T130000
DTEND;TZID=Europe/London:20241226T134000
DTSTAMP:20260421T121635
CREATED:20240603T201558Z
LAST-MODIFIED:20240603T201600Z
UID:3861-1735218000-1735220400@wantsum-morris.org.uk
SUMMARY:The Gate Inn\, Marshside
DESCRIPTION:As part of our boxing day tour\, the Wantsum Morris Men will be dancing at The Gate Inn in Marshside.
URL:https://wantsum-morris.org.uk/event/the-gate-inn-marshside-4/
LOCATION:The Gate Inn\, Marshside\, Church Lane\, Boyden Gate\, Chislet\, Canterbury\, CT3 4EB\, United Kingdom
END:VEVENT
BEGIN:VEVENT
DTSTART;TZID=Europe/London:20241226T120000
DTEND;TZID=Europe/London:20241226T124000
DTSTAMP:20260421T121635
CREATED:20240603T201420Z
LAST-MODIFIED:20240603T201422Z
UID:3859-1735214400-1735216800@wantsum-morris.org.uk
SUMMARY:Bell Inn\, St. Nicholas
DESCRIPTION:As part of our boxing day tour\, the Wantsum Morris Men will be dancing outside The Bell Inn in St. Nicholas-at-wade
URL:https://wantsum-morris.org.uk/event/bell-inn-st-nicholas-4/
LOCATION:The Bell Inn\, St. Nicholas\, The Street\, St. Nicholas-at-wade\, Kent\, CT7 0NT\, United Kingdom
END:VEVENT
BEGIN:VEVENT
DTSTART;TZID=Europe/London:20241226T110000
DTEND;TZID=Europe/London:20241226T114000
DTSTAMP:20260421T121635
CREATED:20240603T201302Z
LAST-MODIFIED:20240603T201305Z
UID:3854-1735210800-1735213200@wantsum-morris.org.uk
SUMMARY:The Powell Arms\, Birchington
DESCRIPTION:As part of our boxing day tour\, the Wantsum Morris Men will be dancing outside The Powell Arms pub on Birchington Square.
URL:https://wantsum-morris.org.uk/event/the-powell-arms-birchington-4/
LOCATION:The Powell Arms\, Birchington\, 11 The Square\, Birchington\, Kent\, CT7 9AF\, United Kingdom
END:VEVENT
BEGIN:VEVENT
DTSTART;TZID=Europe/London:20240914T105000
DTEND;TZID=Europe/London:20240914T160000
DTSTAMP:20260421T121635
CREATED:20240603T201207Z
LAST-MODIFIED:20240603T201837Z
UID:3853-1726311000-1726329600@wantsum-morris.org.uk
SUMMARY:Hop  Hoodening 2024
DESCRIPTION:The Wantsum Morris Men will be joined by some brilliant sides for dancing in and around Canterbury Cathedral and the city. \n\n\n\nSee the Hop Hoodening pages on the Wantsum Morris Men website for more information.
URL:https://wantsum-morris.org.uk/event/hop-hoodening-2024/
LOCATION:Canterbury Cathedral\, Canterbury Cathedral\, Canterbury\, Kent\, CT1 2EH\, United Kingdom
END:VEVENT
BEGIN:VEVENT
DTSTART;TZID=Europe/London:20240815T140000
DTEND;TZID=Europe/London:20240815T160000
DTSTAMP:20260421T121635
CREATED:20240603T201012Z
LAST-MODIFIED:20240603T201014Z
UID:3851-1723730400-1723737600@wantsum-morris.org.uk
SUMMARY:Broadstairs Folk Week
DESCRIPTION:Find us at various locations on the promenade
URL:https://wantsum-morris.org.uk/event/broadstairs-folk-week-10/
LOCATION:Bandstand\, Broadstairs\, Victoria Parade\, Broadstairs\, Kent\, CT10 1QS\, United Kingdom
ORGANIZER;CN="Broadstairs Folk Week":MAILTO:info@broadstairsfolkweek.org.uk
END:VEVENT
BEGIN:VEVENT
DTSTART;TZID=Europe/London:20240813T140000
DTEND;TZID=Europe/London:20240813T160000
DTSTAMP:20260421T121635
CREATED:20240603T200924Z
LAST-MODIFIED:20240603T200926Z
UID:3849-1723557600-1723564800@wantsum-morris.org.uk
SUMMARY:Broadstairs Folk Week
DESCRIPTION:Find us at various locations on the promenade
URL:https://wantsum-morris.org.uk/event/broadstairs-folk-week-9/
LOCATION:Bandstand\, Broadstairs\, Victoria Parade\, Broadstairs\, Kent\, CT10 1QS\, United Kingdom
ORGANIZER;CN="Broadstairs Folk Week":MAILTO:info@broadstairsfolkweek.org.uk
END:VEVENT
BEGIN:VEVENT
DTSTART;TZID=Europe/London:20240811T140000
DTEND;TZID=Europe/London:20240811T160000
DTSTAMP:20260421T121635
CREATED:20240603T200812Z
LAST-MODIFIED:20240603T200814Z
UID:3844-1723384800-1723392000@wantsum-morris.org.uk
SUMMARY:Broadstairs Folk Week
DESCRIPTION:Find us at various locations on the promenade
URL:https://wantsum-morris.org.uk/event/broadstairs-folk-week-8/
LOCATION:Bandstand\, Broadstairs\, Victoria Parade\, Broadstairs\, Kent\, CT10 1QS\, United Kingdom
ORGANIZER;CN="Broadstairs Folk Week":MAILTO:info@broadstairsfolkweek.org.uk
END:VEVENT
BEGIN:VEVENT
DTSTART;TZID=Europe/London:20240720T130000
DTEND;TZID=Europe/London:20240720T140000
DTSTAMP:20260421T121635
CREATED:20240603T200430Z
LAST-MODIFIED:20240603T200432Z
UID:3838-1721480400-1721484000@wantsum-morris.org.uk
SUMMARY:Minster Show
DESCRIPTION:
URL:https://wantsum-morris.org.uk/event/minster-show-3/
LOCATION:Minster Recreation Ground\, 26 St Mildred's Rd\, Minster\, Kent\, CT12 4DE\, United Kingdom
END:VEVENT
BEGIN:VEVENT
DTSTART;TZID=Europe/London:20240714T120000
DTEND;TZID=Europe/London:20240714T120000
DTSTAMP:20260421T121635
CREATED:20240603T200824Z
LAST-MODIFIED:20240603T200908Z
UID:3842-1720958400-1720958400@wantsum-morris.org.uk
SUMMARY:Nonington Country Fair
DESCRIPTION:Country fair
URL:https://wantsum-morris.org.uk/event/nonington-country-fair/
LOCATION:Cricket ground Nonington\, Holt street\, Nonington\, CT154HU\, United Kingdom
END:VEVENT
BEGIN:VEVENT
DTSTART;TZID=Europe/London:20240713T140000
DTEND;TZID=Europe/London:20240713T160000
DTSTAMP:20260421T121635
CREATED:20240603T195830Z
LAST-MODIFIED:20240603T200239Z
UID:3829-1720879200-1720886400@wantsum-morris.org.uk
SUMMARY:Wantsum Brewery Beer Festival
DESCRIPTION:
URL:https://wantsum-morris.org.uk/event/3829/
LOCATION:Wantsum Brewery\, The Kent Barn\, St Nicholas court farm\, St. Nicholas-at-wade\, CT70PT\, United Kingdom
END:VEVENT
BEGIN:VEVENT
DTSTART;TZID=Europe/London:20240707T110000
DTEND;TZID=Europe/London:20240707T150000
DTSTAMP:20260421T121635
CREATED:20240603T195806Z
LAST-MODIFIED:20240603T195918Z
UID:3830-1720350000-1720364400@wantsum-morris.org.uk
SUMMARY:Sandwich folk and ale festival
DESCRIPTION:Come see us dance along with the many sights at the Sandwich Folk and Ale Festival
URL:https://wantsum-morris.org.uk/event/sandwich-folk-and-ale-festival-3/
LOCATION:Sandwich (various locations)\, Cattle Market\, Sandwich\, Kent\, CT13 9AH\, United Kingdom
END:VEVENT
BEGIN:VEVENT
DTSTART;TZID=Europe/London:20240706T120000
DTEND;TZID=Europe/London:20240706T160000
DTSTAMP:20260421T121635
CREATED:20230622T064519Z
LAST-MODIFIED:20240603T195008Z
UID:3508-1720267200-1720281600@wantsum-morris.org.uk
SUMMARY:West Peckham Fete & Classic Car Show
DESCRIPTION:
URL:https://wantsum-morris.org.uk/event/west-peckham-fete-classic-car-show-2/
LOCATION:West Peckham Village Green\, West Peckham\, Maidstone\, Kent\, ME18 5JW\, United Kingdom
END:VEVENT
BEGIN:VEVENT
DTSTART;TZID=Europe/London:20240629T133000
DTEND;TZID=Europe/London:20240629T140000
DTSTAMP:20260421T121635
CREATED:20240603T194258Z
LAST-MODIFIED:20240603T194300Z
UID:3825-1719667800-1719669600@wantsum-morris.org.uk
SUMMARY:Chislet Country Fair
DESCRIPTION:The Wantsum Morris Men will be dancing at Chislet Country Fair
URL:https://wantsum-morris.org.uk/event/chislet-country-fair-2/
LOCATION:Chislet Court Farm\, Church Lane\, Chislet\, Kent\, CT3 4DU\, United Kingdom
END:VEVENT
BEGIN:VEVENT
DTSTART;TZID=Europe/London:20240501T200000
DTEND;TZID=Europe/London:20240501T210000
DTSTAMP:20260421T121635
CREATED:20240309T105905Z
LAST-MODIFIED:20240309T105906Z
UID:3815-1714593600-1714597200@wantsum-morris.org.uk
SUMMARY:May Day at The Gate Inn\, Marshside
DESCRIPTION:The Wantsum Morris Men will be dancing out for May Day at The Gate Inn\, Marshside.
URL:https://wantsum-morris.org.uk/event/may-day-at-the-gate-inn-marshside/
LOCATION:The Gate Inn\, Marshside\, Church Lane\, Boyden Gate\, Chislet\, Canterbury\, CT3 4EB\, United Kingdom
END:VEVENT
BEGIN:VEVENT
DTSTART;TZID=Europe/London:20240501T190000
DTEND;TZID=Europe/London:20240501T195000
DTSTAMP:20260421T121635
CREATED:20240309T110108Z
LAST-MODIFIED:20240309T110630Z
UID:3817-1714590000-1714593000@wantsum-morris.org.uk
SUMMARY:May Day at The Prince of Wales\, Hoath
DESCRIPTION:The Wantsum Morris Men will be dancing out for May Day at The Prince of Wales pub in Hoath
URL:https://wantsum-morris.org.uk/event/may-day-at-the-prince-of-wales-hoath/
LOCATION:The Prince of Wales\, Maypole Road\, Hoath\, Canterbury\, Kent\, CT3 4LN\, United Kingdom
END:VEVENT
BEGIN:VEVENT
DTSTART;TZID=Europe/London:20240114T130000
DTEND;TZID=Europe/London:20240114T140000
DTSTAMP:20260421T121635
CREATED:20240101T215905Z
LAST-MODIFIED:20240101T215906Z
UID:3808-1705237200-1705240800@wantsum-morris.org.uk
SUMMARY:Dancing at The Unicorn Inn
DESCRIPTION:The Wantsum Morris Men will be dancing at The Unicorn Inn
URL:https://wantsum-morris.org.uk/event/dancing-at-the-unicorn-inn/
LOCATION:The Unicorn Inn\, 61 St. Dunstans Street\, Canterbury\, Kent\, CT2 8BS\, United Kingdom
END:VEVENT
BEGIN:VEVENT
DTSTART;TZID=Europe/London:20240114T110000
DTEND;TZID=Europe/London:20240114T120000
DTSTAMP:20260421T121635
CREATED:20240101T214722Z
LAST-MODIFIED:20240101T214723Z
UID:3802-1705230000-1705233600@wantsum-morris.org.uk
SUMMARY:Dancing at The Cricketers
DESCRIPTION:The Wantsum Morris Men will be dancing at The Cricketers.
URL:https://wantsum-morris.org.uk/event/dancing-at-the-cricketers/
LOCATION:The Cricketers\, 14 St. Peter's Street\, Canterbury\, Kent\, CT1 2BQ\, United Kingdom
END:VEVENT
BEGIN:VEVENT
DTSTART;TZID=Europe/London:20231226T140000
DTEND;TZID=Europe/London:20231226T150000
DTSTAMP:20260421T121635
CREATED:20231216T221245Z
LAST-MODIFIED:20231216T221247Z
UID:3799-1703599200-1703602800@wantsum-morris.org.uk
SUMMARY:The Crown Inn\, Sarre
DESCRIPTION:As part of our boxing day tour\, the Wantsum Morris Men will be dancing outside The Crown Inn\, Sarre.
URL:https://wantsum-morris.org.uk/event/the-crown-inn-sarre-3/
LOCATION:Crown Inn\, Sarre\, Ramsgate Road\, Sarre\, Kent\, CT7 0LF\, United Kingdom
END:VEVENT
BEGIN:VEVENT
DTSTART;TZID=Europe/London:20231226T130000
DTEND;TZID=Europe/London:20231226T134000
DTSTAMP:20260421T121635
CREATED:20231216T221117Z
LAST-MODIFIED:20231216T221119Z
UID:3796-1703595600-1703598000@wantsum-morris.org.uk
SUMMARY:The Gate Inn\, Marshside
DESCRIPTION:As part of our boxing day tour\, the Wantsum Morris Men will be dancing at The Gate Inn in Marshside.
URL:https://wantsum-morris.org.uk/event/the-gate-inn-marshside-3/
LOCATION:The Gate Inn\, Marshside\, Church Lane\, Boyden Gate\, Chislet\, Canterbury\, CT3 4EB\, United Kingdom
END:VEVENT
BEGIN:VEVENT
DTSTART;TZID=Europe/London:20231226T120000
DTEND;TZID=Europe/London:20231226T124000
DTSTAMP:20260421T121635
CREATED:20231216T220820Z
LAST-MODIFIED:20231216T221005Z
UID:3793-1703592000-1703594400@wantsum-morris.org.uk
SUMMARY:Bell Inn\, St. Nicholas
DESCRIPTION:As part of our boxing day tour\, the Wantsum Morris Men will be dancing outside The Bell Inn in St. Nicholas-at-wade
URL:https://wantsum-morris.org.uk/event/bell-inn-st-nicholas-3/
LOCATION:The Bell Inn\, St. Nicholas\, The Street\, St. Nicholas-at-wade\, Kent\, CT7 0NT\, United Kingdom
END:VEVENT
BEGIN:VEVENT
DTSTART;TZID=Europe/London:20231226T110000
DTEND;TZID=Europe/London:20231226T114000
DTSTAMP:20260421T121635
CREATED:20231216T220711Z
LAST-MODIFIED:20231216T220712Z
UID:3791-1703588400-1703590800@wantsum-morris.org.uk
SUMMARY:The Powell Arms\, Birchington
DESCRIPTION:As part of our boxing day tour\, the Wantsum Morris Men will be dancing outside The Powell Arms pub on Birchington Square.
URL:https://wantsum-morris.org.uk/event/the-powell-arms-birchington-3/
LOCATION:The Powell Arms\, Birchington\, 11 The Square\, Birchington\, Kent\, CT7 9AF\, United Kingdom
END:VEVENT
BEGIN:VEVENT
DTSTART;TZID=Europe/London:20230909T105000
DTEND;TZID=Europe/London:20230909T160000
DTSTAMP:20260421T121635
CREATED:20230827T150921Z
LAST-MODIFIED:20230827T150923Z
UID:3527-1694256600-1694275200@wantsum-morris.org.uk
SUMMARY:Hop  Hoodening 2023
DESCRIPTION:The Wantsum Morris Men will be joined by some brilliant sides for dancing in and around Canbury Cathedral and the city. \n\n\n\nSee the Hop Hoodening pages on the Wantsum Morris Men website for more information.
URL:https://wantsum-morris.org.uk/event/hop-hoodening-2023/
LOCATION:Kent
END:VEVENT
BEGIN:VEVENT
DTSTART;TZID=Europe/London:20230817T140000
DTEND;TZID=Europe/London:20230817T160000
DTSTAMP:20260421T121635
CREATED:20230622T065806Z
LAST-MODIFIED:20230622T065807Z
UID:3522-1692280800-1692288000@wantsum-morris.org.uk
SUMMARY:Broadstairs Folk Week
DESCRIPTION:Find us at various locations on the promenade
URL:https://wantsum-morris.org.uk/event/broadstairs-folk-week-7/
LOCATION:Kent
ORGANIZER;CN="Broadstairs Folk Week":MAILTO:info@broadstairsfolkweek.org.uk
END:VEVENT
BEGIN:VEVENT
DTSTART;TZID=Europe/London:20230815T140000
DTEND;TZID=Europe/London:20230815T160000
DTSTAMP:20260421T121635
CREATED:20230622T065746Z
LAST-MODIFIED:20230622T065747Z
UID:3520-1692108000-1692115200@wantsum-morris.org.uk
SUMMARY:Broadstairs Folk Week
DESCRIPTION:Find us at various locations on the promenade
URL:https://wantsum-morris.org.uk/event/broadstairs-folk-week-6/
LOCATION:Kent
ORGANIZER;CN="Broadstairs Folk Week":MAILTO:info@broadstairsfolkweek.org.uk
END:VEVENT
BEGIN:VEVENT
DTSTART;TZID=Europe/London:20230813T140000
DTEND;TZID=Europe/London:20230813T160000
DTSTAMP:20260421T121635
CREATED:20230622T065718Z
LAST-MODIFIED:20230622T065720Z
UID:3518-1691935200-1691942400@wantsum-morris.org.uk
SUMMARY:Broadstairs Folk Week
DESCRIPTION:Find us at various locations on the promenade
URL:https://wantsum-morris.org.uk/event/broadstairs-folk-week-5/
LOCATION:Kent
ORGANIZER;CN="Broadstairs Folk Week":MAILTO:info@broadstairsfolkweek.org.uk
END:VEVENT
BEGIN:VEVENT
DTSTART;TZID=Europe/London:20230809T200000
DTEND;TZID=Europe/London:20230809T210000
DTSTAMP:20260421T121635
CREATED:20230622T065358Z
LAST-MODIFIED:20230622T065359Z
UID:3514-1691611200-1691614800@wantsum-morris.org.uk
SUMMARY:Ye Old Yew Tree Inn with East Kent Morris
DESCRIPTION:
URL:https://wantsum-morris.org.uk/event/ye-old-yew-tree-inn-with-east-kent-morris/
LOCATION:Ye Old Yew Tree Inn\, 32 Westbere Lane\, Canterbury\, Kent\, CT2 0HH\, United Kingdom
END:VEVENT
BEGIN:VEVENT
DTSTART;TZID=Europe/London:20230722T120000
DTEND;TZID=Europe/London:20230722T130000
DTSTAMP:20260421T121635
CREATED:20230622T064712Z
LAST-MODIFIED:20230622T064713Z
UID:3512-1690027200-1690030800@wantsum-morris.org.uk
SUMMARY:Minster Show
DESCRIPTION:
URL:https://wantsum-morris.org.uk/event/minster-show-2/
LOCATION:Minster Recreation Ground\, 26 St Mildred's Rd\, Minster\, Kent\, CT12 4DE\, United Kingdom
END:VEVENT
BEGIN:VEVENT
DTSTART;TZID=Europe/London:20230702T110000
DTEND;TZID=Europe/London:20230702T150000
DTSTAMP:20260421T121635
CREATED:20230622T063725Z
LAST-MODIFIED:20230622T063726Z
UID:3504-1688295600-1688310000@wantsum-morris.org.uk
SUMMARY:Sandwich folk and ale festival
DESCRIPTION:Come see us dance along with the many sites at the Sandwich Folk and Ale Festival
URL:https://wantsum-morris.org.uk/event/sandwich-folk-and-ale-festival-2/
LOCATION:Sandwich (various locations)\, Cattle Market\, Sandwich\, Kent\, CT13 9AH\, United Kingdom
END:VEVENT
BEGIN:VEVENT
DTSTART;TZID=Europe/London:20230624T133000
DTEND;TZID=Europe/London:20230624T140000
DTSTAMP:20260421T121635
CREATED:20230622T063245Z
LAST-MODIFIED:20230622T063247Z
UID:3500-1687613400-1687615200@wantsum-morris.org.uk
SUMMARY:Chislet Country Fair
DESCRIPTION:The Wantsum Morris Men will be dancing at Chislet Country Fair
URL:https://wantsum-morris.org.uk/event/chislet-country-fair/
LOCATION:Chislet Court Farm\, Church Lane\, Chislet\, Kent\, CT3 4DU\, United Kingdom
END:VEVENT
END:VCALENDAR