BEGIN:VCALENDAR
VERSION:2.0
PRODID:-//Wantsum Morris Men - ECPv6.15.20//NONSGML v1.0//EN
CALSCALE:GREGORIAN
METHOD:PUBLISH
X-WR-CALNAME:Wantsum Morris Men
X-ORIGINAL-URL:https://wantsum-morris.org.uk
X-WR-CALDESC:Events for Wantsum Morris Men
REFRESH-INTERVAL;VALUE=DURATION:PT1H
X-Robots-Tag:noindex
X-PUBLISHED-TTL:PT1H
BEGIN:VTIMEZONE
TZID:Europe/London
BEGIN:DAYLIGHT
TZOFFSETFROM:+0000
TZOFFSETTO:+0100
TZNAME:BST
DTSTART:20200329T010000
END:DAYLIGHT
BEGIN:STANDARD
TZOFFSETFROM:+0100
TZOFFSETTO:+0000
TZNAME:GMT
DTSTART:20201025T010000
END:STANDARD
BEGIN:DAYLIGHT
TZOFFSETFROM:+0000
TZOFFSETTO:+0100
TZNAME:BST
DTSTART:20210328T010000
END:DAYLIGHT
BEGIN:STANDARD
TZOFFSETFROM:+0100
TZOFFSETTO:+0000
TZNAME:GMT
DTSTART:20211031T010000
END:STANDARD
BEGIN:DAYLIGHT
TZOFFSETFROM:+0000
TZOFFSETTO:+0100
TZNAME:BST
DTSTART:20220327T010000
END:DAYLIGHT
BEGIN:STANDARD
TZOFFSETFROM:+0100
TZOFFSETTO:+0000
TZNAME:GMT
DTSTART:20221030T010000
END:STANDARD
BEGIN:DAYLIGHT
TZOFFSETFROM:+0000
TZOFFSETTO:+0100
TZNAME:BST
DTSTART:20230326T010000
END:DAYLIGHT
BEGIN:STANDARD
TZOFFSETFROM:+0100
TZOFFSETTO:+0000
TZNAME:GMT
DTSTART:20231029T010000
END:STANDARD
BEGIN:DAYLIGHT
TZOFFSETFROM:+0000
TZOFFSETTO:+0100
TZNAME:BST
DTSTART:20240331T010000
END:DAYLIGHT
BEGIN:STANDARD
TZOFFSETFROM:+0100
TZOFFSETTO:+0000
TZNAME:GMT
DTSTART:20241027T010000
END:STANDARD
END:VTIMEZONE
BEGIN:VEVENT
DTSTART;TZID=Europe/London:20230815T140000
DTEND;TZID=Europe/London:20230815T160000
DTSTAMP:20260421T152402
CREATED:20230622T065746Z
LAST-MODIFIED:20230622T065747Z
UID:3520-1692108000-1692115200@wantsum-morris.org.uk
SUMMARY:Broadstairs Folk Week
DESCRIPTION:Find us at various locations on the promenade
URL:https://wantsum-morris.org.uk/event/broadstairs-folk-week-6/
ORGANIZER;CN="Broadstairs Folk Week":MAILTO:info@broadstairsfolkweek.org.uk
END:VEVENT
BEGIN:VEVENT
DTSTART;TZID=Europe/London:20230813T140000
DTEND;TZID=Europe/London:20230813T160000
DTSTAMP:20260421T152402
CREATED:20230622T065718Z
LAST-MODIFIED:20230622T065720Z
UID:3518-1691935200-1691942400@wantsum-morris.org.uk
SUMMARY:Broadstairs Folk Week
DESCRIPTION:Find us at various locations on the promenade
URL:https://wantsum-morris.org.uk/event/broadstairs-folk-week-5/
ORGANIZER;CN="Broadstairs Folk Week":MAILTO:info@broadstairsfolkweek.org.uk
END:VEVENT
BEGIN:VEVENT
DTSTART;TZID=Europe/London:20230809T200000
DTEND;TZID=Europe/London:20230809T210000
DTSTAMP:20260421T152402
CREATED:20230622T065358Z
LAST-MODIFIED:20230622T065359Z
UID:3514-1691611200-1691614800@wantsum-morris.org.uk
SUMMARY:Ye Old Yew Tree Inn with East Kent Morris
DESCRIPTION:
URL:https://wantsum-morris.org.uk/event/ye-old-yew-tree-inn-with-east-kent-morris/
LOCATION:Ye Old Yew Tree Inn\, 32 Westbere Lane\, Canterbury\, Kent\, CT2 0HH\, United Kingdom
END:VEVENT
BEGIN:VEVENT
DTSTART;TZID=Europe/London:20230722T120000
DTEND;TZID=Europe/London:20230722T130000
DTSTAMP:20260421T152402
CREATED:20230622T064712Z
LAST-MODIFIED:20230622T064713Z
UID:3512-1690027200-1690030800@wantsum-morris.org.uk
SUMMARY:Minster Show
DESCRIPTION:
URL:https://wantsum-morris.org.uk/event/minster-show-2/
LOCATION:Minster Recreation Ground\, 26 St Mildred's Rd\, Minster\, Kent\, CT12 4DE\, United Kingdom
END:VEVENT
BEGIN:VEVENT
DTSTART;TZID=Europe/London:20230702T110000
DTEND;TZID=Europe/London:20230702T150000
DTSTAMP:20260421T152402
CREATED:20230622T063725Z
LAST-MODIFIED:20230622T063726Z
UID:3504-1688295600-1688310000@wantsum-morris.org.uk
SUMMARY:Sandwich folk and ale festival
DESCRIPTION:Come see us dance along with the many sites at the Sandwich Folk and Ale Festival
URL:https://wantsum-morris.org.uk/event/sandwich-folk-and-ale-festival-2/
LOCATION:Sandwich (various locations)\, Cattle Market\, Sandwich\, Kent\, CT13 9AH\, United Kingdom
END:VEVENT
BEGIN:VEVENT
DTSTART;TZID=Europe/London:20230624T133000
DTEND;TZID=Europe/London:20230624T140000
DTSTAMP:20260421T152402
CREATED:20230622T063245Z
LAST-MODIFIED:20230622T063247Z
UID:3500-1687613400-1687615200@wantsum-morris.org.uk
SUMMARY:Chislet Country Fair
DESCRIPTION:The Wantsum Morris Men will be dancing at Chislet Country Fair
URL:https://wantsum-morris.org.uk/event/chislet-country-fair/
LOCATION:Chislet Court Farm\, Church Lane\, Chislet\, Kent\, CT3 4DU\, United Kingdom
END:VEVENT
BEGIN:VEVENT
DTSTART;TZID=Europe/London:20230407T120000
DTEND;TZID=Europe/London:20230407T140000
DTSTAMP:20260421T152402
CREATED:20230406T124802Z
LAST-MODIFIED:20230406T124804Z
UID:3494-1680868800-1680876000@wantsum-morris.org.uk
SUMMARY:Gadds' 2023 Beer Festival
DESCRIPTION:Wantsum Morris Men will be dancing with Bower Street Morris at the Gadd’s 2023 Beer Festival. \n\n\n\nAlso dancing will be Offcumduns and Wantsum Women.
URL:https://wantsum-morris.org.uk/event/gadds-2023-beer-festival/
LOCATION:The Ramsgate Brewery (Gadds)\, 7 Hornet Close\, Pyson’s Road Ind Est\, Broadstairs\, Kent\, CT10 2YD\, United Kingdom
END:VEVENT
BEGIN:VEVENT
DTSTART;TZID=Europe/London:20230102T130000
DTEND;TZID=Europe/London:20230102T140000
DTSTAMP:20260421T152402
CREATED:20230102T090653Z
LAST-MODIFIED:20230102T090654Z
UID:3489-1672664400-1672668000@wantsum-morris.org.uk
SUMMARY:The Fitzwalter Arms\, Goodnestone
DESCRIPTION:The Wantsum Morris Men will be dancing at The Fitzwalter Arms in Goodnestone\, near Canterbury.
URL:https://wantsum-morris.org.uk/event/the-fitzwalter-arms-goodnestone/
LOCATION:The Fitzwalter Arms\, The Street\, Goodnestone\, Kent\, CT3 1PJ\, United Kingdom
END:VEVENT
BEGIN:VEVENT
DTSTART;TZID=Europe/London:20221226T140000
DTEND;TZID=Europe/London:20221226T150000
DTSTAMP:20260421T152403
CREATED:20221223T123911Z
LAST-MODIFIED:20221223T123912Z
UID:3486-1672063200-1672066800@wantsum-morris.org.uk
SUMMARY:The Crown Inn\, Sarre
DESCRIPTION:As part of our boxing day tour\, the Wantsum Morris Men will be dancing outside The Crown Inn\, Sarre.
URL:https://wantsum-morris.org.uk/event/the-crown-inn-sarre-2/
LOCATION:Crown Inn\, Sarre\, Ramsgate Road\, Sarre\, Kent\, CT7 0LF\, United Kingdom
END:VEVENT
BEGIN:VEVENT
DTSTART;TZID=Europe/London:20221226T130000
DTEND;TZID=Europe/London:20221226T134000
DTSTAMP:20260421T152403
CREATED:20221223T123207Z
LAST-MODIFIED:20221223T123209Z
UID:3481-1672059600-1672062000@wantsum-morris.org.uk
SUMMARY:The Gate Inn\, Marshside
DESCRIPTION:As part of our boxing day tour\, the Wantsum Morris Men will be dancing at The Gate Inn in Marshside.
URL:https://wantsum-morris.org.uk/event/the-gate-inn-marshside-2/
LOCATION:The Gate Inn\, Marshside\, Church Lane\, Boyden Gate\, Chislet\, Canterbury\, CT3 4EB\, United Kingdom
END:VEVENT
BEGIN:VEVENT
DTSTART;TZID=Europe/London:20221226T120000
DTEND;TZID=Europe/London:20221226T124000
DTSTAMP:20260421T152403
CREATED:20221223T123127Z
LAST-MODIFIED:20221223T123128Z
UID:3479-1672056000-1672058400@wantsum-morris.org.uk
SUMMARY:Bell Inn\, St. Nicholas
DESCRIPTION:As part of our boxing day tour\, the Wantsum Morris Men will be dancing outside The Bell Inn in St. Nicholas-at-wade
URL:https://wantsum-morris.org.uk/event/bell-inn-st-nicholas-2/
LOCATION:The Bell Inn\, St. Nicholas\, The Street\, St. Nicholas-at-wade\, Kent\, CT7 0NT\, United Kingdom
END:VEVENT
BEGIN:VEVENT
DTSTART;TZID=Europe/London:20221226T110000
DTEND;TZID=Europe/London:20221226T114000
DTSTAMP:20260421T152403
CREATED:20221223T122451Z
LAST-MODIFIED:20221223T122718Z
UID:3476-1672052400-1672054800@wantsum-morris.org.uk
SUMMARY:The Powell Arms\, Birchington
DESCRIPTION:As part of our boxing day tour\, the Wantsum Morris Men will be dancing outside The Powell Arms pub on Birchington Square.
URL:https://wantsum-morris.org.uk/event/the-powell-arms-birchington-2/
LOCATION:The Powell Arms\, Birchington\, 11 The Square\, Birchington\, Kent\, CT7 9AF\, United Kingdom
END:VEVENT
BEGIN:VEVENT
DTSTART;TZID=Europe/London:20220910T105000
DTEND;TZID=Europe/London:20220910T160000
DTSTAMP:20260421T152403
CREATED:20220827T094209Z
LAST-MODIFIED:20220909T072340Z
UID:3462-1662807000-1662825600@wantsum-morris.org.uk
SUMMARY:CANCELLED: Hop  Hoodening 2022
DESCRIPTION:Due to the death of Queen Elizabeth II\, Hop Hoodening has been cancelled. We hope to return soon\, but if not\, we will return in 2023. \n\n\n\nThe Wantsum Morris Men will be joined by some brilliant sides for dancing in and around Canbury Cathedral and the city. \n\n\n\nSee the Hop Hoodening pages on the Wantsum Morris Men website for more information.
URL:https://wantsum-morris.org.uk/event/hop-hoodening-2022/
END:VEVENT
BEGIN:VEVENT
DTSTART;TZID=Europe/London:20220723T120000
DTEND;TZID=Europe/London:20220723T130000
DTSTAMP:20260421T152403
CREATED:20220609T211743Z
LAST-MODIFIED:20220609T211744Z
UID:3440-1658577600-1658581200@wantsum-morris.org.uk
SUMMARY:Minster Show
DESCRIPTION:
URL:https://wantsum-morris.org.uk/event/minster-show/
LOCATION:Minster Recreation Ground\, 26 St Mildred's Rd\, Minster\, Kent\, CT12 4DE\, United Kingdom
END:VEVENT
BEGIN:VEVENT
DTSTART;TZID=Europe/London:20220703T110000
DTEND;TZID=Europe/London:20220703T150000
DTSTAMP:20260421T152403
CREATED:20220609T210651Z
LAST-MODIFIED:20220609T211234Z
UID:3434-1656846000-1656860400@wantsum-morris.org.uk
SUMMARY:Sandwich folk and ale festival
DESCRIPTION:Come see us dance along with the many sites at the Sandwich Folk and Ale Festival
URL:https://wantsum-morris.org.uk/event/sandwich-folk-and-ale-festival/
LOCATION:Sandwich (various locations)\, Cattle Market\, Sandwich\, Kent\, CT13 9AH\, United Kingdom
END:VEVENT
BEGIN:VEVENT
DTSTART;TZID=Europe/London:20220702T120000
DTEND;TZID=Europe/London:20220702T150000
DTSTAMP:20260421T152403
CREATED:20220609T210037Z
LAST-MODIFIED:20220609T210122Z
UID:3428-1656763200-1656774000@wantsum-morris.org.uk
SUMMARY:West Peckham Fete & Classic Car Show
DESCRIPTION:Come see us dancing at the West Peckham Fete. \n\n\n\nWe’ll be performing on the Green and then outside the Swan pub
URL:https://wantsum-morris.org.uk/event/west-peckham-fete-classic-car-show/
LOCATION:West Peckham Village Green\, West Peckham\, Maidstone\, Kent\, ME18 5JW\, United Kingdom
END:VEVENT
BEGIN:VEVENT
DTSTART;TZID=Europe/London:20220628T193000
DTEND;TZID=Europe/London:20220628T220000
DTSTAMP:20260421T152403
CREATED:20220621T193826Z
LAST-MODIFIED:20220621T193827Z
UID:3443-1656444600-1656453600@wantsum-morris.org.uk
SUMMARY:The Crown Inn\, Sarre
DESCRIPTION:
URL:https://wantsum-morris.org.uk/event/the-crown-inn-sarre/
LOCATION:Crown Inn\, Sarre\, Ramsgate Road\, Sarre\, Kent\, CT7 0LF\, United Kingdom
END:VEVENT
BEGIN:VEVENT
DTSTART;TZID=Europe/London:20220625T134500
DTEND;TZID=Europe/London:20220625T141500
DTSTAMP:20260421T152403
CREATED:20220609T204021Z
LAST-MODIFIED:20220609T210300Z
UID:3422-1656164700-1656166500@wantsum-morris.org.uk
SUMMARY:Chislet Country Fair
DESCRIPTION:The Wantsum Morris Men will be dancing at Chislet Country Fair
URL:https://wantsum-morris.org.uk/event/chislet-county-fair/
LOCATION:Chislet Court Farm\, Church Lane\, Chislet\, Kent\, CT3 4DU\, United Kingdom
END:VEVENT
BEGIN:VEVENT
DTSTART;TZID=Europe/London:20220614T200000
DTEND;TZID=Europe/London:20220614T220000
DTSTAMP:20260421T152403
CREATED:20220609T202506Z
LAST-MODIFIED:20220609T202603Z
UID:3416-1655236800-1655244000@wantsum-morris.org.uk
SUMMARY:The Bell Inn\, St. Nicholas-at-wade
DESCRIPTION:Wantsum Morris Men are dancing outside The Bell Inn in St. Nicholas-at-wade. \n\n\n\nWe’ll be joined by Wantsum Women and Offcumduns.
URL:https://wantsum-morris.org.uk/event/the-bell-inn-st-nicholas-at-wade/
LOCATION:The Bell Inn\, St. Nicholas\, The Street\, St. Nicholas-at-wade\, Kent\, CT7 0NT\, United Kingdom
END:VEVENT
BEGIN:VEVENT
DTSTART;TZID=Europe/London:20220611T133000
DTEND;TZID=Europe/London:20220611T143000
DTSTAMP:20260421T152403
CREATED:20220607T202517Z
LAST-MODIFIED:20220607T202607Z
UID:3412-1654954200-1654957800@wantsum-morris.org.uk
SUMMARY:St. Peters Jubilee Event
DESCRIPTION:Wantsum Morris Men are dancing in St. Peters as part of the village’s jubilee celebrations. \n\n\n\nWe’ll all be joined by Wantsum Women and Offcumduns. \n\n\n\nFind us at St. Peters Baptist Church
URL:https://wantsum-morris.org.uk/event/st-peters-jubilee-event/
LOCATION:St. Peters Baptist Church\, Vicarage St\, Broadstairs\, Kent\, CT10 2SG
END:VEVENT
BEGIN:VEVENT
DTSTART;TZID=Europe/London:20220501T190000
DTEND;TZID=Europe/London:20220501T200000
DTSTAMP:20260421T152403
CREATED:20220424T170419Z
LAST-MODIFIED:20220424T170420Z
UID:3408-1651431600-1651435200@wantsum-morris.org.uk
SUMMARY:Gate Inn\, Marshside
DESCRIPTION:The Wantsum Morris Men will be dancing out for May Day at The Gate Inn\, Marshside.
URL:https://wantsum-morris.org.uk/event/gate-inn-marshside/
LOCATION:The Gate Inn\, Marshside\, Church Lane\, Boyden Gate\, Chislet\, Canterbury\, CT3 4EB\, United Kingdom
END:VEVENT
BEGIN:VEVENT
DTSTART;TZID=Europe/London:20220430T000000
DTEND;TZID=Europe/London:20220430T235959
DTSTAMP:20260421T152403
CREATED:20220424T170230Z
LAST-MODIFIED:20220424T170231Z
UID:3406-1651276800-1651363199@wantsum-morris.org.uk
SUMMARY:Rochester Sweeps Festival
DESCRIPTION:Come find us dancing with lots of morris sides at the Rochester Sweeps Festival
URL:https://wantsum-morris.org.uk/event/rochester-sweeps-festival/
END:VEVENT
BEGIN:VEVENT
DTSTART;TZID=Europe/London:20220409T170000
DTEND;TZID=Europe/London:20220409T180000
DTSTAMP:20260421T152403
CREATED:20220408T135517Z
LAST-MODIFIED:20220408T135518Z
UID:3399-1649523600-1649527200@wantsum-morris.org.uk
SUMMARY:Hair of the Dog\, Minster
DESCRIPTION:As part of our afternoon of dancing\, the Wantsum Morris Men will be dancing at the Hair of the Dog pub in Minster.
URL:https://wantsum-morris.org.uk/event/hair-of-the-dog-minster/
LOCATION:Hair of the Dog\, 73 High Street\, Minster\, Ramsgate\, Kent\, CT12 4AB\, United Kingdom
END:VEVENT
BEGIN:VEVENT
DTSTART;TZID=Europe/London:20220409T160000
DTEND;TZID=Europe/London:20220409T170000
DTSTAMP:20260421T152403
CREATED:20220408T135041Z
LAST-MODIFIED:20220408T135612Z
UID:3394-1649520000-1649523600@wantsum-morris.org.uk
SUMMARY:The Bell Inn\, Minster
DESCRIPTION:As part of our afternoon of dancing\, the Wantsum Morris Men will be dancing at The Bell Inn in Minster.
URL:https://wantsum-morris.org.uk/event/the-bell-inn-minster/
LOCATION:The Bell Inn\, Minster\, 2 High Street\, Minster\, Ramsgate\, Kent\, CT12 4BU\, United Kingdom
END:VEVENT
BEGIN:VEVENT
DTSTART;TZID=Europe/London:20211226T130000
DTEND;TZID=Europe/London:20211226T134000
DTSTAMP:20260421T152403
CREATED:20210727T152012Z
LAST-MODIFIED:20210727T152015Z
UID:3009-1640523600-1640526000@wantsum-morris.org.uk
SUMMARY:The Gate Inn\, Marshside
DESCRIPTION:As part of our boxing day tour\, the Wantsum Morris Men will be dancing at The Gate Inn in Marshside.
URL:https://wantsum-morris.org.uk/event/the-gate-inn-marshside/
LOCATION:The Gate Inn\, Marshside\, Church Lane\, Boyden Gate\, Chislet\, Canterbury\, CT3 4EB\, United Kingdom
END:VEVENT
BEGIN:VEVENT
DTSTART;TZID=Europe/London:20211226T120000
DTEND;TZID=Europe/London:20211226T124000
DTSTAMP:20260421T152403
CREATED:20210727T151815Z
LAST-MODIFIED:20210727T151816Z
UID:3007-1640520000-1640522400@wantsum-morris.org.uk
SUMMARY:Bell Inn\, St. Nicholas
DESCRIPTION:As part of our boxing day tour\, the Wantsum Morris Men will be dancing outside The Bell Inn in St. Nicholas-at-wade
URL:https://wantsum-morris.org.uk/event/bell-inn-st-nicholas/
LOCATION:The Bell Inn\, St. Nicholas\, The Street\, St. Nicholas-at-wade\, Kent\, CT7 0NT\, United Kingdom
END:VEVENT
BEGIN:VEVENT
DTSTART;TZID=Europe/London:20211226T110000
DTEND;TZID=Europe/London:20211226T114000
DTSTAMP:20260421T152403
CREATED:20210727T151215Z
LAST-MODIFIED:20210727T151612Z
UID:2999-1640516400-1640518800@wantsum-morris.org.uk
SUMMARY:The Powell Arms\, Birchington
DESCRIPTION:As part of our boxing day tour\, the Wantsum Morris Men will be dancing outside The Powell Arms pub on Birchington Square.
URL:https://wantsum-morris.org.uk/event/the-powell-arms-birchington/
LOCATION:The Powell Arms\, Birchington\, 11 The Square\, Birchington\, Kent\, CT7 9AF\, United Kingdom
END:VEVENT
BEGIN:VEVENT
DTSTART;TZID=Europe/London:20210911T110000
DTEND;TZID=Europe/London:20210911T160000
DTSTAMP:20260421T152403
CREATED:20210727T150334Z
LAST-MODIFIED:20210727T152228Z
UID:2992-1631358000-1631376000@wantsum-morris.org.uk
SUMMARY:Hop Hoodening\,  Canterbury
DESCRIPTION:The Wantsum Morris Men\, along with invited guest morris sides\, will take part in a procession into the cathedral for the Hop Hoodening service. \n\n\n\nDuring the service there will be a performance by one of the attending morris sides. \n\n\n\nAfter the service there will be dancing in the Cathedral Precincts. \n\n\n\nLater\, the morris sides shall follow tours of Canterbury’s city centre\, dancing in various locations. \n\n\n\nSee the event web pages for more information.
URL:https://wantsum-morris.org.uk/event/hop-hoodening-cathedral-service-canterbury/
LOCATION:Canterbury Cathedral\, Canterbury Cathedral\, Canterbury\, Kent\, CT1 2EH\, United Kingdom
END:VEVENT
BEGIN:VEVENT
DTSTART;TZID=Europe/London:20210812T140000
DTEND;TZID=Europe/London:20210812T153000
DTSTAMP:20260421T152403
CREATED:20210727T145323Z
LAST-MODIFIED:20210727T145324Z
UID:2989-1628776800-1628782200@wantsum-morris.org.uk
SUMMARY:Broadstairs Folk Week
DESCRIPTION:Busking around town
URL:https://wantsum-morris.org.uk/event/broadstairs-folk-week-4/
ORGANIZER;CN="Broadstairs Folk Week":MAILTO:info@broadstairsfolkweek.org.uk
END:VEVENT
BEGIN:VEVENT
DTSTART;TZID=Europe/London:20210810T150000
DTEND;TZID=Europe/London:20210810T163000
DTSTAMP:20260421T152403
CREATED:20210727T145210Z
LAST-MODIFIED:20210727T145211Z
UID:2987-1628607600-1628613000@wantsum-morris.org.uk
SUMMARY:Broadstairs Folk Week
DESCRIPTION:Busking around town.
URL:https://wantsum-morris.org.uk/event/broadstairs-folk-week-3/
ORGANIZER;CN="Broadstairs Folk Week":MAILTO:info@broadstairsfolkweek.org.uk
END:VEVENT
END:VCALENDAR