BEGIN:VCALENDAR
VERSION:2.0
PRODID:-//Wantsum Morris Men - ECPv6.15.20//NONSGML v1.0//EN
CALSCALE:GREGORIAN
METHOD:PUBLISH
X-ORIGINAL-URL:https://wantsum-morris.org.uk
X-WR-CALDESC:Events for Wantsum Morris Men
REFRESH-INTERVAL;VALUE=DURATION:PT1H
X-Robots-Tag:noindex
X-PUBLISHED-TTL:PT1H
BEGIN:VTIMEZONE
TZID:Europe/London
BEGIN:DAYLIGHT
TZOFFSETFROM:+0000
TZOFFSETTO:+0100
TZNAME:BST
DTSTART:20190331T010000
END:DAYLIGHT
BEGIN:STANDARD
TZOFFSETFROM:+0100
TZOFFSETTO:+0000
TZNAME:GMT
DTSTART:20191027T010000
END:STANDARD
BEGIN:DAYLIGHT
TZOFFSETFROM:+0000
TZOFFSETTO:+0100
TZNAME:BST
DTSTART:20200329T010000
END:DAYLIGHT
BEGIN:STANDARD
TZOFFSETFROM:+0100
TZOFFSETTO:+0000
TZNAME:GMT
DTSTART:20201025T010000
END:STANDARD
BEGIN:DAYLIGHT
TZOFFSETFROM:+0000
TZOFFSETTO:+0100
TZNAME:BST
DTSTART:20210328T010000
END:DAYLIGHT
BEGIN:STANDARD
TZOFFSETFROM:+0100
TZOFFSETTO:+0000
TZNAME:GMT
DTSTART:20211031T010000
END:STANDARD
BEGIN:DAYLIGHT
TZOFFSETFROM:+0000
TZOFFSETTO:+0100
TZNAME:BST
DTSTART:20220327T010000
END:DAYLIGHT
BEGIN:STANDARD
TZOFFSETFROM:+0100
TZOFFSETTO:+0000
TZNAME:GMT
DTSTART:20221030T010000
END:STANDARD
END:VTIMEZONE
BEGIN:VEVENT
DTSTART;TZID=Europe/London:20211226T130000
DTEND;TZID=Europe/London:20211226T134000
DTSTAMP:20260421T183756
CREATED:20210727T152012Z
LAST-MODIFIED:20210727T152015Z
UID:3009-1640523600-1640526000@wantsum-morris.org.uk
SUMMARY:The Gate Inn\, Marshside
DESCRIPTION:As part of our boxing day tour\, the Wantsum Morris Men will be dancing at The Gate Inn in Marshside.
URL:https://wantsum-morris.org.uk/event/the-gate-inn-marshside/
LOCATION:The Gate Inn\, Marshside\, Church Lane\, Boyden Gate\, Chislet\, Canterbury\, CT3 4EB\, United Kingdom
END:VEVENT
BEGIN:VEVENT
DTSTART;TZID=Europe/London:20211226T120000
DTEND;TZID=Europe/London:20211226T124000
DTSTAMP:20260421T183756
CREATED:20210727T151815Z
LAST-MODIFIED:20210727T151816Z
UID:3007-1640520000-1640522400@wantsum-morris.org.uk
SUMMARY:Bell Inn\, St. Nicholas
DESCRIPTION:As part of our boxing day tour\, the Wantsum Morris Men will be dancing outside The Bell Inn in St. Nicholas-at-wade
URL:https://wantsum-morris.org.uk/event/bell-inn-st-nicholas/
LOCATION:The Bell Inn\, St. Nicholas\, The Street\, St. Nicholas-at-wade\, Kent\, CT7 0NT\, United Kingdom
END:VEVENT
BEGIN:VEVENT
DTSTART;TZID=Europe/London:20211226T110000
DTEND;TZID=Europe/London:20211226T114000
DTSTAMP:20260421T183756
CREATED:20210727T151215Z
LAST-MODIFIED:20210727T151612Z
UID:2999-1640516400-1640518800@wantsum-morris.org.uk
SUMMARY:The Powell Arms\, Birchington
DESCRIPTION:As part of our boxing day tour\, the Wantsum Morris Men will be dancing outside The Powell Arms pub on Birchington Square.
URL:https://wantsum-morris.org.uk/event/the-powell-arms-birchington/
LOCATION:The Powell Arms\, Birchington\, 11 The Square\, Birchington\, Kent\, CT7 9AF\, United Kingdom
END:VEVENT
BEGIN:VEVENT
DTSTART;TZID=Europe/London:20210911T110000
DTEND;TZID=Europe/London:20210911T160000
DTSTAMP:20260421T183756
CREATED:20210727T150334Z
LAST-MODIFIED:20210727T152228Z
UID:2992-1631358000-1631376000@wantsum-morris.org.uk
SUMMARY:Hop Hoodening\,  Canterbury
DESCRIPTION:The Wantsum Morris Men\, along with invited guest morris sides\, will take part in a procession into the cathedral for the Hop Hoodening service. \n\n\n\nDuring the service there will be a performance by one of the attending morris sides. \n\n\n\nAfter the service there will be dancing in the Cathedral Precincts. \n\n\n\nLater\, the morris sides shall follow tours of Canterbury’s city centre\, dancing in various locations. \n\n\n\nSee the event web pages for more information.
URL:https://wantsum-morris.org.uk/event/hop-hoodening-cathedral-service-canterbury/
LOCATION:Canterbury Cathedral\, Canterbury Cathedral\, Canterbury\, Kent\, CT1 2EH\, United Kingdom
END:VEVENT
BEGIN:VEVENT
DTSTART;TZID=Europe/London:20210812T140000
DTEND;TZID=Europe/London:20210812T153000
DTSTAMP:20260421T183756
CREATED:20210727T145323Z
LAST-MODIFIED:20210727T145324Z
UID:2989-1628776800-1628782200@wantsum-morris.org.uk
SUMMARY:Broadstairs Folk Week
DESCRIPTION:Busking around town
URL:https://wantsum-morris.org.uk/event/broadstairs-folk-week-4/
ORGANIZER;CN="Broadstairs Folk Week":MAILTO:info@broadstairsfolkweek.org.uk
END:VEVENT
BEGIN:VEVENT
DTSTART;TZID=Europe/London:20210810T150000
DTEND;TZID=Europe/London:20210810T163000
DTSTAMP:20260421T183756
CREATED:20210727T145210Z
LAST-MODIFIED:20210727T145211Z
UID:2987-1628607600-1628613000@wantsum-morris.org.uk
SUMMARY:Broadstairs Folk Week
DESCRIPTION:Busking around town.
URL:https://wantsum-morris.org.uk/event/broadstairs-folk-week-3/
ORGANIZER;CN="Broadstairs Folk Week":MAILTO:info@broadstairsfolkweek.org.uk
END:VEVENT
BEGIN:VEVENT
DTSTART;TZID=Europe/London:20210808T140000
DTEND;TZID=Europe/London:20210808T153000
DTSTAMP:20260421T183756
CREATED:20210727T145106Z
LAST-MODIFIED:20210727T145107Z
UID:2985-1628431200-1628436600@wantsum-morris.org.uk
SUMMARY:Broadstairs Folk Week
DESCRIPTION:Busking around town
URL:https://wantsum-morris.org.uk/event/broadstairs-folk-week-2/
ORGANIZER;CN="Broadstairs Folk Week":MAILTO:info@broadstairsfolkweek.org.uk
END:VEVENT
BEGIN:VEVENT
DTSTART;TZID=Europe/London:20210807T163000
DTEND;TZID=Europe/London:20210807T180000
DTSTAMP:20260421T183756
CREATED:20210727T144639Z
LAST-MODIFIED:20210803T153841Z
UID:2979-1628353800-1628359200@wantsum-morris.org.uk
SUMMARY:Broadstairs Folk Week
DESCRIPTION:Dancing around town and performing at the Bandstand
URL:https://wantsum-morris.org.uk/event/broadstairs-folk-week/
LOCATION:Bandstand\, Broadstairs\, Victoria Parade\, Broadstairs\, Kent\, CT10 1QS\, United Kingdom
ORGANIZER;CN="Broadstairs Folk Week":MAILTO:info@broadstairsfolkweek.org.uk
END:VEVENT
BEGIN:VEVENT
DTSTART;TZID=Europe/London:20210803T200000
DTEND;TZID=Europe/London:20210803T203000
DTSTAMP:20260421T183756
CREATED:20210727T142626Z
LAST-MODIFIED:20210727T142631Z
UID:2971-1628020800-1628022600@wantsum-morris.org.uk
SUMMARY:The Bell\, St. Nicholas
DESCRIPTION:The Wantsum Morris Men will be dancing with Offcumduns at The Bell in St. Nicholas.
URL:https://wantsum-morris.org.uk/event/the-bell-st-nicholas/
LOCATION:The Bell Inn\, St. Nicholas\, The Street\, St. Nicholas-at-wade\, Kent\, CT7 0NT\, United Kingdom
END:VEVENT
BEGIN:VEVENT
DTSTART;TZID=Europe/London:20210727T200000
DTEND;TZID=Europe/London:20210727T210000
DTSTAMP:20260421T183756
CREATED:20210727T141839Z
LAST-MODIFIED:20210727T142701Z
UID:2963-1627416000-1627419600@wantsum-morris.org.uk
SUMMARY:Crown Inn\, Sarre
DESCRIPTION:The Wantsum Morris Men will be dancing with Offcumduns at the Crown Inn (a.k.a. The Cherry-brandy House) in Sarre.
URL:https://wantsum-morris.org.uk/event/crown-inn-sarre/
LOCATION:Crown Inn\, Sarre\, Ramsgate Road\, Sarre\, Kent\, CT7 0LF\, United Kingdom
END:VEVENT
BEGIN:VEVENT
DTSTART;TZID=Europe/London:20210720T200000
DTEND;TZID=Europe/London:20210720T210000
DTSTAMP:20260421T183756
CREATED:20210727T141336Z
LAST-MODIFIED:20210727T143740Z
UID:2959-1626811200-1626814800@wantsum-morris.org.uk
SUMMARY:The Gate Inn\, Marshside
DESCRIPTION:We’re back! \n\n\n\nThe Wantsum Morris Men will be dancing at The Gate Inn in Marshside.
URL:https://wantsum-morris.org.uk/event/marshside-2/
LOCATION:The Gate Inn\, Marshside\, Church Lane\, Boyden Gate\, Chislet\, Canterbury\, CT3 4EB\, United Kingdom
END:VEVENT
BEGIN:VEVENT
DTSTART;TZID=Europe/London:20210704T110000
DTEND;TZID=Europe/London:20210704T150000
DTSTAMP:20260421T183756
CREATED:20210430T063220Z
LAST-MODIFIED:20210727T140840Z
UID:2893-1625396400-1625410800@wantsum-morris.org.uk
SUMMARY:CANCELLED: Sandwich Folk & Ale Festival
DESCRIPTION:Wantsum Morris Men will be dancing around town during the Sandwich Folk & Ale Festival
URL:https://wantsum-morris.org.uk/event/sandwich-folk-ale-festival/
LOCATION:Sandwich (various locations)\, Cattle Market\, Sandwich\, Kent\, CT13 9AH\, United Kingdom
END:VEVENT
BEGIN:VEVENT
DTSTART;TZID=Europe/London:20210703T150000
DTEND;TZID=Europe/London:20210703T153000
DTSTAMP:20260421T183756
CREATED:20210430T062655Z
LAST-MODIFIED:20210727T140737Z
UID:2888-1625324400-1625326200@wantsum-morris.org.uk
SUMMARY:CANCELLED: West Peckham Village Fete
DESCRIPTION:Wantsum Morris Men will be performing at the West Peckham Village Fete
URL:https://wantsum-morris.org.uk/event/west-peckham-village-fete/
END:VEVENT
BEGIN:VEVENT
DTSTART;TZID=Europe/London:20210526T200000
DTEND;TZID=Europe/London:20210526T220000
DTSTAMP:20260421T183756
CREATED:20210430T061949Z
LAST-MODIFIED:20210518T180346Z
UID:2883-1622059200-1622066400@wantsum-morris.org.uk
SUMMARY:CANCELLED: The Red Lion\, Badlesmere
DESCRIPTION:Dancing with Rabble Border Morris at The Red Lion pub in Badlesmere.
URL:https://wantsum-morris.org.uk/event/the-red-lion-badlesmere/
LOCATION:The Red Lion\, Badlesmere\, Ashford Road\, Faversham\, Kent\, ME13 0NX\, United Kingdom
END:VEVENT
BEGIN:VEVENT
DTSTART;TZID=Europe/London:20200501T200000
DTEND;TZID=Europe/London:20200501T210000
DTSTAMP:20260421T183756
CREATED:20200413T104235Z
LAST-MODIFIED:20200413T104235Z
UID:70-1588363200-1588366800@wantsum-morris.org.uk
SUMMARY:Marshside
DESCRIPTION:
URL:https://wantsum-morris.org.uk/event/marshside/
END:VEVENT
BEGIN:VEVENT
DTSTART;TZID=Europe/London:20200501T190000
DTEND;TZID=Europe/London:20200501T200000
DTSTAMP:20260421T183756
CREATED:20200413T104118Z
LAST-MODIFIED:20200413T104118Z
UID:66-1588359600-1588363200@wantsum-morris.org.uk
SUMMARY:Maypole
DESCRIPTION:
URL:https://wantsum-morris.org.uk/event/maypole/
LOCATION:The Prince of Wales\, Maypole Road\, Hoath\, Canterbury\, Kent\, CT3 4LN\, United Kingdom
END:VEVENT
BEGIN:VEVENT
DTSTART;TZID=Europe/London:20200423T180000
DTEND;TZID=Europe/London:20200423T200000
DTSTAMP:20260421T183756
CREATED:20200413T103625Z
LAST-MODIFIED:20200413T103626Z
UID:64-1587664800-1587672000@wantsum-morris.org.uk
SUMMARY:St. Georges Day
DESCRIPTION:
URL:https://wantsum-morris.org.uk/event/st-georges-day/
END:VEVENT
END:VCALENDAR